BEGIN:VCALENDAR
VERSION:2.0
PRODID:-//Fakultet filozofije i religijskih znanosti - ECPv6.15.17.1//NONSGML v1.0//EN
CALSCALE:GREGORIAN
METHOD:PUBLISH
X-ORIGINAL-URL:https://www.ffrz.unizg.hr
X-WR-CALDESC:Događaji za Fakultet filozofije i religijskih znanosti
REFRESH-INTERVAL;VALUE=DURATION:PT1H
X-Robots-Tag:noindex
X-PUBLISHED-TTL:PT1H
BEGIN:VTIMEZONE
TZID:Europe/Zagreb
BEGIN:DAYLIGHT
TZOFFSETFROM:+0100
TZOFFSETTO:+0200
TZNAME:CEST
DTSTART:20210328T010000
END:DAYLIGHT
BEGIN:STANDARD
TZOFFSETFROM:+0200
TZOFFSETTO:+0100
TZNAME:CET
DTSTART:20211031T010000
END:STANDARD
BEGIN:DAYLIGHT
TZOFFSETFROM:+0100
TZOFFSETTO:+0200
TZNAME:CEST
DTSTART:20220327T010000
END:DAYLIGHT
BEGIN:STANDARD
TZOFFSETFROM:+0200
TZOFFSETTO:+0100
TZNAME:CET
DTSTART:20221030T010000
END:STANDARD
BEGIN:DAYLIGHT
TZOFFSETFROM:+0100
TZOFFSETTO:+0200
TZNAME:CEST
DTSTART:20230326T010000
END:DAYLIGHT
BEGIN:STANDARD
TZOFFSETFROM:+0200
TZOFFSETTO:+0100
TZNAME:CET
DTSTART:20231029T010000
END:STANDARD
END:VTIMEZONE
BEGIN:VEVENT
DTSTART;TZID=Europe/Zagreb:20220303T180000
DTEND;TZID=Europe/Zagreb:20220303T200000
DTSTAMP:20260420T091258
CREATED:20220217T114707Z
LAST-MODIFIED:20220217T114726Z
UID:9824-1646330400-1646337600@www.ffrz.unizg.hr
SUMMARY:Konferencija povodom 50. obljetnice Obiteljske ljetne škole i objava zbornika
DESCRIPTION:Obiteljski centar \nFakulteta filozofije i religijskih znanosti Sveučilišta u Zagrebu \norganizira konferenciju \npovodom 50. obljetnice Obiteljske ljetne škole i objave zbornika \nHrvatski isusovci za obitelj\nViše \n\n 
URL:https://www.ffrz.unizg.hr/event/konferencija-povodom-50-obljetnice-obiteljske-ljetne-skole-i-objava-zbornika/
LOCATION:FFRZ\, Jordanovac ul. 110\, Zagreb\, 10000\, Croatia (Local Name: Hrvatska)
CATEGORIES:Događanje
ATTACH;FMTTYPE=image/jpeg:https://www.ffrz.unizg.hr/wp-content/uploads/2022/02/obitelj-scaled.jpg
ORGANIZER;CN="FFRZ":MAILTO:info@ffrz.unizg.hr
END:VEVENT
BEGIN:VEVENT
DTSTART;TZID=Europe/Zagreb:20220308T120000
DTEND;TZID=Europe/Zagreb:20220308T133000
DTSTAMP:20260420T091258
CREATED:20220301T064554Z
LAST-MODIFIED:20220301T064659Z
UID:9923-1646740800-1646746200@www.ffrz.unizg.hr
SUMMARY:Fenomenologija ovisnosti
DESCRIPTION:Fenomen ovisnosti kao jedan od temeljnih problema koji zaokuplja suvremenoga čovjeka u filozofijskoj tradiciji od Platona do suvremenih teoretičara emocija\,  kao što su primjerice Simon Blackburn\, Louis Charland i Antonio Damasio\, nalazi svoje pokušaje objašnjenja. Pojam ovisnosti vezan je primarno za slobodu odlučivanja. Odnos duše i tijela u tradicionalnoj filozofiji\, počevši od Platonova Fedona\, pitanje različitih afekata i sposobnosti duše\, kako je izloženo u Platonovoj filozofiji\, može i danas poslužiti kao solidna osnova za filozofijsko objašnjenje fenomena ovisnosti što velikim dijelom potvrđuje i moje medicinsko iskustvo rada s ovisnicima. Već je Platon uvjerljivo argumentirao da kod osoba u kojih dominira požudni\, strastveno-emotivni dio duše (epithymetikon) ne postoji sposobnost kontroliranja svoga ponašanja niti ozbiljnijega osmišljavanja vlastite egzistencije. Takva osoba živi pod diktatom ovisnosti požuda\, hedonističkih poriva\, njezin voljni dio (thymoeides) pod jakim je utjecajem ovisnosti; sloboda odlučivanja koja je uvjetovana samostalnošću koja nastaje djelovanjem razumskoga dijela duše (logistikon) ne može realizirati svoju autonomnost. \nU suvremenom zapadnom građanskom svijetu svakodnevno bujaju antagonizmi\, te se vrlo često prelijevaju u patološku formu (infantilizam)\, koji nesumnjivo utječu na razvoj ljudske osobnosti uzimajući im individualnu neovisnost i slobodu. Takva stanja koja razaraju mladu i nezrelu osobu dovode je u konfuziju\, prije svega sa samim sobom\, a kasnije i s društvom kao cjelinom. Naša ljudskost u tzv. moderno-tehnološkom zapadnom društvu zbog raznih evolucija i revolucija u odnosu čovjeka sa stvarima oko sebe i njega samog otvorila je nove mogućnosti za stvaranje pozitivnih znanstveno-tehničkih spoznaja (raznovrsno potrošačko obilje) koje će donijeti takve pomake da čovjeku ostaje tek toliko prostora da se bavi razvojem svojih emocionalnih i duhovnih potencijala u svrhu sprečavanja destruktivnih nagona prema sebi i zajednici. U posljednjih 10-15 godina bilo je za očekivati da će se razina ulazaka u komunikaciju glede individue i cjelokupnog društva\, sa sredstvima koja izazivaju ili potiču ovisničke dimenzije osobnosti svesti na kontroliranu razinu\, ako već ne smanjiti ispod očekivanog. Trend rasta tehnološke kvantitete umanjit će gubitak duhovne kvalitete\, mislio je Fromm drugom sredinom prošlog stoljeća\, a apstinencija od kulturnih\, religioznih\, povijesnih dimenzija naše osobnosti će se smanjiti. Nažalost\, kao i uvijek kroz povijesti ljudskih civilizacija i epoha\, čovjek svoju stvaralačku snagu\, pomak u odnosu na prijašnje\, zna okrenuti globalno protiv sebe\, u svrhu partikularnih i trenutačnih interesa kako bi sebi\, svojoj grupi\, narodu\, ideji donio neregularnu prevagu ili razorio drukčijeg od sebe\, u svrhu ostvarivanja bilo kakve moći\, dominacije\, stvarajući svijet po sebi i za sebe.
URL:https://www.ffrz.unizg.hr/event/fenomenologija-ovisnosti/
LOCATION:FFRZ\, Jordanovac ul. 110\, Zagreb\, 10000\, Croatia (Local Name: Hrvatska)
CATEGORIES:Događanje
ATTACH;FMTTYPE=image/jpeg:https://www.ffrz.unizg.hr/wp-content/uploads/2022/02/ovisnost.jpg
ORGANIZER;CN="FFRZ":MAILTO:info@ffrz.unizg.hr
END:VEVENT
BEGIN:VEVENT
DTSTART;TZID=Europe/Zagreb:20220325T143000
DTEND;TZID=Europe/Zagreb:20220325T180000
DTSTAMP:20260420T091258
CREATED:20220318T082122Z
LAST-MODIFIED:20220322T071714Z
UID:10071-1648218600-1648231200@www.ffrz.unizg.hr
SUMMARY:Simpozij "PANDEMIJA\, EKONOMIJA I POSLOVNA ETIKA"
DESCRIPTION:Simpozij \n“PANDEMIJA\, EKONOMIJA I POSLOVNA ETIKA” \nU petak\, 25. ožujka održat će se znanstveni simpozij “Centra za poslovnu etiku” (CEP) Fakulteta filozofije i religijskih znanosti (FFRZ) Sveučilišta u Zagrebu pod naslovom: “PANDEMIJA\, EKONOMIJA I POSLOVNA ETIKA”. \nU posljednje dvije godine mali virus\, uzročnik bolesti COVID-19\, prisilio nas je na mnoge korekcije i promjene: navukao nam je masku na lice\, nameće nam odmak i druge propise\, „suzio“ nam je slobodu i ugrozio napredak i blagostanje…  Jednostavno\, kontaminirao je ne samo našu društvenost nego i poslovanje\, naš život u cjelini. U tom smislu epidemija korone je postala težak test ne samo za zdravlje nego i za naš ljudski\, društveni i gospodarski suživot. Od malih boginja preko španjolske gripe do AIDS-a\, ebole i svinjske gripe\, oslikana je panorama epidemija koje su poharale svijet u 20. stoljeću. COVID-19 je boleština neke druge vrste. Tu nije riječ samo o napadu na ljudsko zdravlje\, nego i na društvena\, poslovna i etička načela našega suživota. Kako se s time nositi? Kakve će posljedice pandemija COVID-19 ostaviti na naše gospodarstvo i ekonomiju\, ali i na naše zdravlje i etiku? \nPROGRAM \nKNJIŽICA SAŽETAKA
URL:https://www.ffrz.unizg.hr/event/simpozij-pandemija-ekonomija-i-poslovna-etika/
LOCATION:FFRZ\, Jordanovac ul. 110\, Zagreb\, 10000\, Croatia (Local Name: Hrvatska)
CATEGORIES:Događanje
ATTACH;FMTTYPE=image/jpeg:https://www.ffrz.unizg.hr/wp-content/uploads/2022/03/cep2022_.jpg
ORGANIZER;CN="FFRZ":MAILTO:info@ffrz.unizg.hr
END:VEVENT
END:VCALENDAR