BEGIN:VCALENDAR
VERSION:2.0
PRODID:-//Fakultet filozofije i religijskih znanosti - ECPv6.15.17.1//NONSGML v1.0//EN
CALSCALE:GREGORIAN
METHOD:PUBLISH
X-WR-CALNAME:Fakultet filozofije i religijskih znanosti
X-ORIGINAL-URL:https://www.ffrz.unizg.hr
X-WR-CALDESC:Događaji za Fakultet filozofije i religijskih znanosti
REFRESH-INTERVAL;VALUE=DURATION:PT1H
X-Robots-Tag:noindex
X-PUBLISHED-TTL:PT1H
BEGIN:VTIMEZONE
TZID:Europe/Zagreb
BEGIN:DAYLIGHT
TZOFFSETFROM:+0100
TZOFFSETTO:+0200
TZNAME:CEST
DTSTART:20200329T010000
END:DAYLIGHT
BEGIN:STANDARD
TZOFFSETFROM:+0200
TZOFFSETTO:+0100
TZNAME:CET
DTSTART:20201025T010000
END:STANDARD
BEGIN:DAYLIGHT
TZOFFSETFROM:+0100
TZOFFSETTO:+0200
TZNAME:CEST
DTSTART:20210328T010000
END:DAYLIGHT
BEGIN:STANDARD
TZOFFSETFROM:+0200
TZOFFSETTO:+0100
TZNAME:CET
DTSTART:20211031T010000
END:STANDARD
BEGIN:DAYLIGHT
TZOFFSETFROM:+0100
TZOFFSETTO:+0200
TZNAME:CEST
DTSTART:20220327T010000
END:DAYLIGHT
BEGIN:STANDARD
TZOFFSETFROM:+0200
TZOFFSETTO:+0100
TZNAME:CET
DTSTART:20221030T010000
END:STANDARD
END:VTIMEZONE
BEGIN:VEVENT
DTSTART;TZID=Europe/Zagreb:20211004T110000
DTEND;TZID=Europe/Zagreb:20211004T120000
DTSTAMP:20260420T134315
CREATED:20210930T120741Z
LAST-MODIFIED:20210930T122759Z
UID:8961-1633345200-1633348800@www.ffrz.unizg.hr
SUMMARY:Predstavljanje zbornika Tragovi Prvog uzroka prigodom 75.  obljetnice života p. Nikole Stankovića\, SJ
DESCRIPTION:
URL:https://www.ffrz.unizg.hr/event/predstavljanje-zbornika-tragovi-prvog-uzroka-prigodom-75-obljetnice-zivota-p-nikole-stankovica-sj/
LOCATION:FFRZ\, Jordanovac ul. 110\, Zagreb\, 10000\, Croatia (Local Name: Hrvatska)
CATEGORIES:Događanje
ATTACH;FMTTYPE=image/jpeg:https://www.ffrz.unizg.hr/wp-content/uploads/2021/09/TPU2021-scaled.jpg
END:VEVENT
BEGIN:VEVENT
DTSTART;TZID=Europe/Zagreb:20211007T090000
DTEND;TZID=Europe/Zagreb:20211009T200000
DTSTAMP:20260420T134315
CREATED:20210930T115352Z
LAST-MODIFIED:20211004T053644Z
UID:8958-1633597200-1633809600@www.ffrz.unizg.hr
SUMMARY:Znanstveni skup o Slavku Ježiću
DESCRIPTION:Fakultet hrvatskih studija Sveučilišta u Zagrebu organizira Znanstveni skup o hrvatskom književnom povjesničaru Slavku Ježiću\, povodom 125. obljetnice znanstvenikova rođenja od 7. do 9. listopada 2021. u Zagrebu i Zadru pod pokroviteljstvom Hrvatske akademije znanosti i umjetnosti / Razreda za književnost. To je osamnaesti znanstveni skup u nizu Hrvatski književni povjesničari. Skup će započeti s radom 7. listopada 2021. u 9\,00 sati na Fakultetu filozofije i religijskih znanosti Sveučilišta u Zagrebu i nastaviti radom 8. listopada 2021. na Sveučilištu u Zadru. \nSlavko Ježić (Dubrava\, 1895. – Zagreb\, 1969.)\, hrvatski književnik\, književni povjesničar i prevoditelj\, autor je prve cjelovite povijesti hrvatske književnosti (Hrvatska književnost od početka do danas: 1100–1941.\, 1944.) koja je do danas neizostavan znanstveni priručnik za proučavanje hrvatske književnosti. Autor je i povijesti francuske književnosti\, priredio je kritička izdanja sabranih djela brojnih klasika hrvatske književnosti\, bio je intendant HNK\, sastavio je nekoliko antologija\, prevodio je s više jezika\, osobito s francuskoga\, a djelovao je i kao književnik. Jedan je od utemeljitelja hrvatskoga PEN-kluba. \nSuorganizatori Znanstvenoga skupa o Slavku Ježiću su: Fakultet filozofije i religijskih znanosti Sveučilišta u Zagrebu\, Filozofski fakultet Sveučilišta Josipa Jurja Strossmayera iz Osijeka\, Filozofski fakultet Sveučilišta u Zagrebu\, Sveučilište Jurja Dobrile u Puli\, Sveučilište u Zadru\, Hrvatsko filološko društvo\, Ogranak Društva hrvatskih književnika – Zadar\, Ogranak Matice hrvatske Varaždin. Na skupu će sudjelovati 30-ak znanstvenika iz Hrvatske i inozemstva\, a nakon skupa\, do početka 2022. planirana je objava Zbornika o Slavku Ježiću. Predviđeno je i da sudionici skupa posjete Dubravu\, rodno mjesto Slavka Ježića. \nNapominjemo da je prije 26 godina\, u Zagrebu i Zadru od 19. do 22. listopada 1995.\, održan prvi znanstveni skup o Slavku Ježiću povodom njegove 100. obljetnice rođenja. Godine 1997. u Zagrebu\, kao drugi svezak edicije HKP\, objavljen je Zbornik o Slavku Ježiću sa znanstvenim radovima priopćenim na tom skupu. U proteklih četvrt stoljeća od prvog znanstvenog skupa o Slavku Ježiću znanost je utvrdila mnoge nove i važne činjenice vezane uz suvremenu recepciju Ježićeva znanstvenoga opusa. Otvoreno je mnogo novih književno-teoretskih i komparatističkih pristupa književnoj historiografiji\, posebice pak onih interdisciplinarnih i multidisciplinarnih. U hrvatskoj znanosti o književnosti stasala je nova generacija znanstvenika koja ima potrebu iskazati svoje poglede na sveukupno stvaralaštvo Slavka Ježića a za što im je dobra prilika održavanje znanstvenog skupa o tom ugledniku hrvatske filološke znanosti. Ne manje važna jest i činjenica da će skup biti održan s međunarodnom suradnjom. \nPlakat \nProgram i knjižica sažetaka
URL:https://www.ffrz.unizg.hr/event/znanstveni-skup-o-slavku-jezicu/
LOCATION:FFRZ\, Jordanovac ul. 110\, Zagreb\, 10000\, Croatia (Local Name: Hrvatska)
CATEGORIES:Događanje
ATTACH;FMTTYPE=image/jpeg:https://www.ffrz.unizg.hr/wp-content/uploads/2021/09/jezic_banner.jpg
END:VEVENT
BEGIN:VEVENT
DTSTART;TZID=Europe/Zagreb:20211020T120000
DTEND;TZID=Europe/Zagreb:20211020T150000
DTSTAMP:20260420T134315
CREATED:20211014T112627Z
LAST-MODIFIED:20211014T112627Z
UID:9155-1634731200-1634742000@www.ffrz.unizg.hr
SUMMARY:Svečano predavanje povodom Dana međureligijskog i međukulturnog učenja
DESCRIPTION:
URL:https://www.ffrz.unizg.hr/event/svecano-predavanje-povodom-dana-medureligijskog-i-medukulturnog-ucenja/
LOCATION:FFRZ\, Jordanovac ul. 110\, Zagreb\, 10000\, Croatia (Local Name: Hrvatska)
CATEGORIES:Događanje
ATTACH;FMTTYPE=image/png:https://www.ffrz.unizg.hr/wp-content/uploads/2021/10/dan_medureligijskog.png
ORGANIZER;CN="FFRZ":MAILTO:info@ffrz.unizg.hr
END:VEVENT
BEGIN:VEVENT
DTSTART;TZID=Europe/Zagreb:20211028T093000
DTEND;TZID=Europe/Zagreb:20211028T140000
DTSTAMP:20260420T134315
CREATED:20211020T070310Z
LAST-MODIFIED:20211026T095659Z
UID:9171-1635413400-1635429600@www.ffrz.unizg.hr
SUMMARY:Socijalna distanca: Filozofske\, religijske\, sociološke\, psihološke i pravne implikacije
DESCRIPTION:FFRZ – Sveučilišta u Zagrebu\npoziva\nna znanstveni skup \n  \nu četvrtak 28. listopada 2021. \ndvorana A. Bauera\nFFRZ\, Jordanovac 110 \npočetak u 9:30 sati \ndobro došli \n\n\n\nProgram znanstvenog skupa\n09:30 –9:45 Pozdravni govor prof. dr. sc. Ivan Koprek Dekan Fakulteta filozofije i religijskih znanosti 09:45–10:45 Psihološke  implikacije  socijalne  distance:  izazovi  u  tijeku  i  nakon pandemije doc. dr. sc. Sanda Smoljo–Dobrovoljski\, Katolički bogoslovni fakultet u Zagrebu Socijalna distanca kao izazov u psihodinamskoj terapiji doc. dr. sc. Antun Volenik\, Fakultet filozofije i religijskih znanosti Zajedno i (ili) sami – istraživanje o iskustvima mladih s društvenom izolacijom i fizičkom distancom u doba pandemije prof. dr. sc. Krešimir Peračković\, Institut društvenih znanosti Ivo Pilar doc. dr. sc. Mateo Žanić\, Institut društvenih znanosti Ivo Pilar Matea Milak\, mag. soc.\, Institut društvenih znanosti Ivo Pilar Rasprava 10.45–11:15 Pauza \n\n11:15–12:15 Digitalni alati u nastavi na daljinu – perspektiva roditelja učenika razredne nastave doc. dr. sc. Iva Ivanković\, Fakultet hrvatskih studija “Kauč“\, odgoj i obrazovanje doc. dr. sc. Katarina Dadić\, Fakultet hrvatskih studija Pravo na obrazovanje u doba pandemije doc. dr. sc. Marija Džinić\, Fakultet filozofije i religijskih znanosti Rasprava 12.15–12:30 Pauza 12:30–13:45 Personalizam Emmanuela Levinasa u pandemijskim uvjetima izv. prof. dr. sc. Daniel Miščin\, Fakultet filozofije i religijskih znanosti Ljudska moć u vrijeme krize – filozofsko mišljenje B. Weltea dr. sc. Suzana Maslać\, Katolički bogoslovni fakultet u Zagrebu Pojam socijalnog u sintagmi „socijalna distanca“ doc. dr. sc. Ines Skelac\, Fakultet filozofije i religijskih znanosti  Nikolina Smiljanić\, mag. pol.\, Hrvatska zaklada za znanost O filozofskim i drugim pristupima socijalnoj distanci i njezinim implikacijama doc. dr. sc. Barbara Ćuk\, Fakultet filozofije i religijskih znanosti Rasprava 13:45–14:00 Zatvaranje znanstvenog skupa  \n  \nZOOM link \n\nPlakat
URL:https://www.ffrz.unizg.hr/event/socijalna-distanca-filozofske-religijske-socioloske-psiholoske-i-pravne-implikacije/
LOCATION:FFRZ\, Jordanovac ul. 110\, Zagreb\, 10000\, Croatia (Local Name: Hrvatska)
CATEGORIES:Događanje
ATTACH;FMTTYPE=image/jpeg:https://www.ffrz.unizg.hr/wp-content/uploads/2021/10/socij.jpg
ORGANIZER;CN="FFRZ":MAILTO:info@ffrz.unizg.hr
END:VEVENT
END:VCALENDAR