BEGIN:VCALENDAR
VERSION:2.0
PRODID:-//Fakultet filozofije i religijskih znanosti - ECPv6.15.17.1//NONSGML v1.0//EN
CALSCALE:GREGORIAN
METHOD:PUBLISH
X-ORIGINAL-URL:https://www.ffrz.unizg.hr
X-WR-CALDESC:Događaji za Fakultet filozofije i religijskih znanosti
REFRESH-INTERVAL;VALUE=DURATION:PT1H
X-Robots-Tag:noindex
X-PUBLISHED-TTL:PT1H
BEGIN:VTIMEZONE
TZID:Europe/Zagreb
BEGIN:DAYLIGHT
TZOFFSETFROM:+0100
TZOFFSETTO:+0200
TZNAME:CEST
DTSTART:20230326T010000
END:DAYLIGHT
BEGIN:STANDARD
TZOFFSETFROM:+0200
TZOFFSETTO:+0100
TZNAME:CET
DTSTART:20231029T010000
END:STANDARD
BEGIN:DAYLIGHT
TZOFFSETFROM:+0100
TZOFFSETTO:+0200
TZNAME:CEST
DTSTART:20240331T010000
END:DAYLIGHT
BEGIN:STANDARD
TZOFFSETFROM:+0200
TZOFFSETTO:+0100
TZNAME:CET
DTSTART:20241027T010000
END:STANDARD
BEGIN:DAYLIGHT
TZOFFSETFROM:+0100
TZOFFSETTO:+0200
TZNAME:CEST
DTSTART:20250330T010000
END:DAYLIGHT
BEGIN:STANDARD
TZOFFSETFROM:+0200
TZOFFSETTO:+0100
TZNAME:CET
DTSTART:20251026T010000
END:STANDARD
END:VTIMEZONE
BEGIN:VEVENT
DTSTART;VALUE=DATE:20240405
DTEND;VALUE=DATE:20240406
DTSTAMP:20260419T160442
CREATED:20231002T111355Z
LAST-MODIFIED:20231002T114119Z
UID:13384-1712275200-1712361599@www.ffrz.unizg.hr
SUMMARY:CEP SIMPOZIJ 2024: “HRANA\, EKONOMIJA I POSLOVNA ETIKA”
DESCRIPTION:Najava znanstvenoga simpozija “Centra za poslovnu etiku” (CEP) Fakulteta filozofije i religijskih znanosti (FFRZ) Sveučilišta u Zagrebu pod naslovom: “HRANA\, EKONOMIJA I POSLOVNA ETIKA”. Simpozij je predviđen za petak\, 5. travnja 2024. godine. (više ovdje) \n\nNATJEČAJ za studentske radove \n“Centar za poslovnu etiku” (CEP) Fakulteta filozofije i religijskih znanosti (FFRZ) Sveučilišta u Zagrebu objavljuje Natječaj za najbolji esej na temu: „HRANA\, EKONOMIJA I POSLOVNA ETIKA“. (Tekst natječaja ovdje)
URL:https://www.ffrz.unizg.hr/event/simpozij-2024-hrana-ekonomija-i-poslovna-etika/
LOCATION:FFRZ\, Jordanovac ul. 110\, Zagreb\, 10000\, Croatia (Local Name: Hrvatska)
CATEGORIES:Događanje
ATTACH;FMTTYPE=image/jpeg:https://www.ffrz.unizg.hr/wp-content/uploads/2023/10/hrana2.jpg
END:VEVENT
END:VCALENDAR