BEGIN:VCALENDAR
VERSION:2.0
PRODID:-//Fakultet filozofije i religijskih znanosti - ECPv6.15.17.1//NONSGML v1.0//EN
CALSCALE:GREGORIAN
METHOD:PUBLISH
X-WR-CALNAME:Fakultet filozofije i religijskih znanosti
X-ORIGINAL-URL:https://www.ffrz.unizg.hr
X-WR-CALDESC:Događaji za Fakultet filozofije i religijskih znanosti
REFRESH-INTERVAL;VALUE=DURATION:PT1H
X-Robots-Tag:noindex
X-PUBLISHED-TTL:PT1H
BEGIN:VTIMEZONE
TZID:Europe/Zagreb
BEGIN:DAYLIGHT
TZOFFSETFROM:+0100
TZOFFSETTO:+0200
TZNAME:CEST
DTSTART:20210328T010000
END:DAYLIGHT
BEGIN:STANDARD
TZOFFSETFROM:+0200
TZOFFSETTO:+0100
TZNAME:CET
DTSTART:20211031T010000
END:STANDARD
BEGIN:DAYLIGHT
TZOFFSETFROM:+0100
TZOFFSETTO:+0200
TZNAME:CEST
DTSTART:20220327T010000
END:DAYLIGHT
BEGIN:STANDARD
TZOFFSETFROM:+0200
TZOFFSETTO:+0100
TZNAME:CET
DTSTART:20221030T010000
END:STANDARD
BEGIN:DAYLIGHT
TZOFFSETFROM:+0100
TZOFFSETTO:+0200
TZNAME:CEST
DTSTART:20230326T010000
END:DAYLIGHT
BEGIN:STANDARD
TZOFFSETFROM:+0200
TZOFFSETTO:+0100
TZNAME:CET
DTSTART:20231029T010000
END:STANDARD
END:VTIMEZONE
BEGIN:VEVENT
DTSTART;TZID=Europe/Zagreb:20220504T120000
DTEND;TZID=Europe/Zagreb:20220504T130000
DTSTAMP:20260421T204122
CREATED:20220503T055518Z
LAST-MODIFIED:20220503T055518Z
UID:10626-1651665600-1651669200@www.ffrz.unizg.hr
SUMMARY:The Tension between Cultural Heritage and the Sacred
DESCRIPTION:Professor Clemens Cavallin\nFaculty of Education and Arts\, Nord University \nUseful religion\nThe Tension between Cultural Heritage and the Sacred \n\nIn this talk Professor Clemens Cavallin discusses critically Christianity as a cultural resource in Europe with the help of polls on the importance of religion\, the number of people who self-identify as Christians and in what they actually believe. The main argument is that if Christianity is to have a significant cultural and political impact in Europe in the future then the idea of it as a valued cultural heritage is not enough.\nPredavanje će se održati na Fakultetu filozofije i religijskih znanosti Sveučilišta u Zagrebu (Jordanovac 110)\nu dvorani Antuna Bauera u srijedu\, 4. svibnja 2022. s početkom u 12:00 h \n\nVeselimo se Vašem dolasku \nPLAKAT
URL:https://www.ffrz.unizg.hr/event/the-tension-between-cultural-heritage-and-the-sacred/
LOCATION:FFRZ\, Jordanovac ul. 110\, Zagreb\, 10000\, Croatia (Local Name: Hrvatska)
CATEGORIES:Događanje
ATTACH;FMTTYPE=image/jpeg:https://www.ffrz.unizg.hr/wp-content/uploads/2021/10/cav3.jpg
END:VEVENT
END:VCALENDAR