BEGIN:VCALENDAR
VERSION:2.0
PRODID:-//Fakultet filozofije i religijskih znanosti - ECPv6.15.20//NONSGML v1.0//EN
CALSCALE:GREGORIAN
METHOD:PUBLISH
X-ORIGINAL-URL:https://www.ffrz.unizg.hr
X-WR-CALDESC:Događaji za Fakultet filozofije i religijskih znanosti
REFRESH-INTERVAL;VALUE=DURATION:PT1H
X-Robots-Tag:noindex
X-PUBLISHED-TTL:PT1H
BEGIN:VTIMEZONE
TZID:Europe/Zagreb
BEGIN:DAYLIGHT
TZOFFSETFROM:+0100
TZOFFSETTO:+0200
TZNAME:CEST
DTSTART:20210328T010000
END:DAYLIGHT
BEGIN:STANDARD
TZOFFSETFROM:+0200
TZOFFSETTO:+0100
TZNAME:CET
DTSTART:20211031T010000
END:STANDARD
BEGIN:DAYLIGHT
TZOFFSETFROM:+0100
TZOFFSETTO:+0200
TZNAME:CEST
DTSTART:20220327T010000
END:DAYLIGHT
BEGIN:STANDARD
TZOFFSETFROM:+0200
TZOFFSETTO:+0100
TZNAME:CET
DTSTART:20221030T010000
END:STANDARD
BEGIN:DAYLIGHT
TZOFFSETFROM:+0100
TZOFFSETTO:+0200
TZNAME:CEST
DTSTART:20230326T010000
END:DAYLIGHT
BEGIN:STANDARD
TZOFFSETFROM:+0200
TZOFFSETTO:+0100
TZNAME:CET
DTSTART:20231029T010000
END:STANDARD
END:VTIMEZONE
BEGIN:VEVENT
DTSTART;TZID=Europe/Zagreb:20220121T120000
DTEND;TZID=Europe/Zagreb:20220121T130000
DTSTAMP:20260424T081309
CREATED:20220118T103526Z
LAST-MODIFIED:20220118T103622Z
UID:9519-1642766400-1642770000@www.ffrz.unizg.hr
SUMMARY:DAN JEDINSTVA KRŠĆANA
DESCRIPTION:Susret u okviru \n„Molitvene osmine za jedinstvo kršćana“\, \npetak\, 21. siječnja 2022. u 12:00 sati\nu kapelici sv. Katarine na FFRZ \nDobro došli!
URL:https://www.ffrz.unizg.hr/event/dan-jedinstva-krscana/
LOCATION:FFRZ\, Jordanovac ul. 110\, Zagreb\, 10000\, Croatia (Local Name: Hrvatska)
CATEGORIES:Događanje
ATTACH;FMTTYPE=image/jpeg:https://www.ffrz.unizg.hr/wp-content/uploads/2022/01/jedinstvo.jpg
ORGANIZER;CN="FFRZ":MAILTO:info@ffrz.unizg.hr
END:VEVENT
BEGIN:VEVENT
DTSTART;TZID=Europe/Zagreb:20220121T150000
DTEND;TZID=Europe/Zagreb:20220121T180000
DTSTAMP:20260424T081309
CREATED:20211216T123553Z
LAST-MODIFIED:20211216T123553Z
UID:9421-1642777200-1642788000@www.ffrz.unizg.hr
SUMMARY:Obrana doktorskoga rada
DESCRIPTION:Ivica Musa \nUloga monoteizmau kulturno-antropološkoj teoriji Jana Assmanna \npetak\, 21. siječnja 2022.u 15.00 satiu dvorani Peter-Hans Kolvenbach \nčlanovi Povjerenstva: \nizv. prof. dr. sc. Daniel Miščin\, FFRZ\, predsjednikprof. dr. sc. Ivan Karlić\, KBF\, vanjski člandoc. dr. sc. Niko Bilić\, FFRZ\, članprof. dr. sc. Ivan Šestak\, FFRZ\, 1. mentor\, članprof. dr. sc. Anto Mišić\, 2. mentor\, član \nOglas \nSažetak hr/en
URL:https://www.ffrz.unizg.hr/event/obrana-doktorskoga-rada/
LOCATION:FFRZ\, Jordanovac ul. 110\, Zagreb\, 10000\, Croatia (Local Name: Hrvatska)
CATEGORIES:Događanje
ATTACH;FMTTYPE=image/jpeg:https://www.ffrz.unizg.hr/wp-content/uploads/2021/03/phd-banner.jpg
ORGANIZER;CN="FFRZ":MAILTO:info@ffrz.unizg.hr
END:VEVENT
END:VCALENDAR