BEGIN:VCALENDAR
VERSION:2.0
PRODID:-//Fakultet filozofije i religijskih znanosti - ECPv6.15.17.1//NONSGML v1.0//EN
CALSCALE:GREGORIAN
METHOD:PUBLISH
X-WR-CALNAME:Fakultet filozofije i religijskih znanosti
X-ORIGINAL-URL:https://www.ffrz.unizg.hr
X-WR-CALDESC:Događaji za Fakultet filozofije i religijskih znanosti
REFRESH-INTERVAL;VALUE=DURATION:PT1H
X-Robots-Tag:noindex
X-PUBLISHED-TTL:PT1H
BEGIN:VTIMEZONE
TZID:Europe/Zagreb
BEGIN:DAYLIGHT
TZOFFSETFROM:+0100
TZOFFSETTO:+0200
TZNAME:CEST
DTSTART:20200329T010000
END:DAYLIGHT
BEGIN:STANDARD
TZOFFSETFROM:+0200
TZOFFSETTO:+0100
TZNAME:CET
DTSTART:20201025T010000
END:STANDARD
BEGIN:DAYLIGHT
TZOFFSETFROM:+0100
TZOFFSETTO:+0200
TZNAME:CEST
DTSTART:20210328T010000
END:DAYLIGHT
BEGIN:STANDARD
TZOFFSETFROM:+0200
TZOFFSETTO:+0100
TZNAME:CET
DTSTART:20211031T010000
END:STANDARD
BEGIN:DAYLIGHT
TZOFFSETFROM:+0100
TZOFFSETTO:+0200
TZNAME:CEST
DTSTART:20220327T010000
END:DAYLIGHT
BEGIN:STANDARD
TZOFFSETFROM:+0200
TZOFFSETTO:+0100
TZNAME:CET
DTSTART:20221030T010000
END:STANDARD
END:VTIMEZONE
BEGIN:VEVENT
DTSTART;VALUE=DATE:20210510
DTEND;VALUE=DATE:20210516
DTSTAMP:20260419T233815
CREATED:20210511T113550Z
LAST-MODIFIED:20210511T115305Z
UID:8424-1620604800-1621123199@www.ffrz.unizg.hr
SUMMARY:FESTIVAL ZNANOSTI 2021.10. – 15. svibnja 2021.!
DESCRIPTION:Kultura znanosti \nU prošlih godinu dana znanstvenici i znanstvene teme su bili prisutniji u medijima nego svih dosadašnjih godina Festivala znanosti. Javnost je u cijelom svijetu postala svjesnija no ikad područja njihova rada\, istraživanja u laboratorijima daleko od očiju javnosti i činjenice da samo znanost može dati relevantne prognoze i dovesti do otkrića i rješenja problema. Znanstvenici nisu čarobnjaci i vidovnjaci\, a upravo je i cilj Festivala znanosti svih ovih dosadašnjih godina isti – demistifikacija znanosti\, da djeci i političkim čimbenicima približimo znanost i da im pomognemo shvatiti koliko je znanost važna i sveprisutna u današnjem društvu te ljudskim životima. \nNaša ovogodišnja tema je Kultura znanosti. Što je kultura i gradimo li kulturu znanosti?\nEtimološki riječ kultura dolazi od latinske riječi colere koja znači nastanjivati\, uzgajati\, štititi\, poštovati. Nastanjuje li znanost naše načine mišljenja\, poštujemo li znanstvena otkrića\, razumijemo li značaj istraživanja za svakodnevni život i njegovu kvalitetu\, slijedimo li upute znanstvenika i stručnjaka\, kako se borimo za vrednovanje znanosti i koliko smo uspješni u tome? Tko utječe na naša mišljenja\, stavove\, predrasude u doba kada je informacija dostupna svima ‐ ali ne i svijest o njezinom porijeklu\, istinitosti i kvaliteti. Upravo kroz ovogodišnju temu „Kultura znanosti“ na razuman način nastojimo komunicirati kulturu znanosti u dijalogu između znanstvenika i javnosti s ciljem održavanja međusobnog razumijevanja i povjerenja. \nORGANIZACIJSKI ODBOR FESTIVALA ZNANOSTI \nViše informacija na http://www.festivalznanosti.hr/2021/
URL:https://www.ffrz.unizg.hr/event/festival-znanosti-2021-10-15-svibnja-2021/
CATEGORIES:Događanje
ATTACH;FMTTYPE=image/png:https://www.ffrz.unizg.hr/wp-content/uploads/2021/05/FZ_KZ.png
END:VEVENT
END:VCALENDAR